BEGIN:VCALENDAR
VERSION:2.0
PRODID:-//Hauora Taiwhenua - ECPv6.15.20//NONSGML v1.0//EN
CALSCALE:GREGORIAN
METHOD:PUBLISH
X-WR-CALNAME:Hauora Taiwhenua
X-ORIGINAL-URL:https://htrhn.org.nz
X-WR-CALDESC:Events for Hauora Taiwhenua
REFRESH-INTERVAL;VALUE=DURATION:PT1H
X-Robots-Tag:noindex
X-PUBLISHED-TTL:PT1H
BEGIN:VTIMEZONE
TZID:UTC
BEGIN:STANDARD
TZOFFSETFROM:+0000
TZOFFSETTO:+0000
TZNAME:UTC
DTSTART:20240101T000000
END:STANDARD
END:VTIMEZONE
BEGIN:VEVENT
DTSTART;VALUE=DATE:20250502
DTEND;VALUE=DATE:20250504
DTSTAMP:20260422T001214
CREATED:20240911T041907Z
LAST-MODIFIED:20250107T202749Z
UID:8250-1746144000-1746316799@htrhn.org.nz
SUMMARY:National Rural Health Conference 25
DESCRIPTION:Early bird registration is now open for the National Rural Health Conference\, happening 1-3 May 2025 at Te Pae\, Christchurch. Don’t miss your chance to secure your spot at New Zealand’s premier event dedicated to rural health and wellbeing. \nThis year’s theme\, “Empowerment”\, will shine a spotlight on strategies and success stories that enable rural communities and health professionals to take charge of their health and create a sustainable future. With a diverse range of sessions\, thought-provoking speakers\, and unparalleled networking opportunities\, this is an event you won’t want to miss. \nWhether you’re a healthcare professional\, policymaker\, researcher\, or student\, the National Rural Health Conference offers something for everyone. Join us as we imagine\, inspire\, and innovate together to shape the future of rural healthcare. \nTake advantage of the early bird rates and register today! We can’t wait to welcome you to an event filled with learning\, collaboration\, and inspiration. Let’s work together to make a difference in rural health! \nCLICK HERE TO REGISTER
URL:https://htrhn.org.nz/event/national-rural-health-conference-25/
LOCATION:Te Pae Christchurch Convention Centre\, 188 Oxford Terrace\, Christchurch Central City\, Christchurch\, Christchurch\, 8011\, New Zealand
CATEGORIES:Conference,Recruitment
END:VEVENT
BEGIN:VEVENT
DTSTART;TZID=UTC:20250512T073000
DTEND;TZID=UTC:20250514T153000
DTSTAMP:20260422T001214
CREATED:20250211T022409Z
LAST-MODIFIED:20250211T022424Z
UID:9596-1747035000-1747236600@htrhn.org.nz
SUMMARY:NZLocums Orientation - May 2025
DESCRIPTION:Kickstart your journey in the New Zealand health system with our orientation course. Experience the best introduction to New Zealand’s health system by attending our acclaimed three-day orientation course. \nThis course is endorsed by The Royal New Zealand College of General Practitioners (RNZCGP) and is approved for up to 10 CME credits for Continuing Professional Development (CPD) purposes. \nTo register for our May orientation\, follow the link below. \nRegister for Orientation – Hauora Taiwhenua
URL:https://htrhn.org.nz/event/nzlocums-orientation-may-2025/
LOCATION:Online: Teams\, New Zealand
CATEGORIES:Orientation,Recruitment
ORGANIZER;CN="Connor Owen":MAILTO:connor.owen@nzlocums.com
END:VEVENT
BEGIN:VEVENT
DTSTART;TZID=UTC:20250530T130000
DTEND;TZID=UTC:20250530T143000
DTSTAMP:20260422T001214
CREATED:20250529T030240Z
LAST-MODIFIED:20250529T030240Z
UID:10425-1748610000-1748615400@htrhn.org.nz
SUMMARY:Webinar: Urgent Care and After-hours Framework - in Rural
DESCRIPTION:We’re pleased to invite you to an exclusive members-only webinar with Rachel Pearce\, Co-Director\, Rural Commissioning at Health NZ. Rachel will share key national developments and lead an open discussion on urgent and unplanned care in rural settings. \nChoose one of two sessions (same content repeated):\n \n\nFriday 30 May at 1:00 PM\nTuesday 3 June at 6:00 PM \n\n  \nTopic: Rachel will present updates and insights on: \n\nThe National Urgent Care and After-hours Framework\nThe Rural Unplanned and Urgent Care Report\nThe Rural & Remote Prototypes Project\n\nThis is a valuable opportunity to hear directly from Health NZ on key workstreams affecting rural practice – and to share your feedback. \nRegister your interest for the Friday session here: https://us02web.zoom.us/meeting/register/MpOboJkTQ9Gq9KlAv3kZAg
URL:https://htrhn.org.nz/event/webinar-urgent-care-and-after-hours-framework-in-rural/
CATEGORIES:Members Event
END:VEVENT
END:VCALENDAR