BEGIN:VCALENDAR
VERSION:2.0
PRODID:-//Hauora Taiwhenua - ECPv6.15.20//NONSGML v1.0//EN
CALSCALE:GREGORIAN
METHOD:PUBLISH
X-ORIGINAL-URL:https://htrhn.org.nz
X-WR-CALDESC:Events for Hauora Taiwhenua
REFRESH-INTERVAL;VALUE=DURATION:PT1H
X-Robots-Tag:noindex
X-PUBLISHED-TTL:PT1H
BEGIN:VTIMEZONE
TZID:UTC
BEGIN:STANDARD
TZOFFSETFROM:+0000
TZOFFSETTO:+0000
TZNAME:UTC
DTSTART:20230101T000000
END:STANDARD
END:VTIMEZONE
BEGIN:VEVENT
DTSTART;TZID=UTC:20240607T080000
DTEND;TZID=UTC:20240609T120000
DTSTAMP:20260422T170230
CREATED:20240514T021300Z
LAST-MODIFIED:20240514T021553Z
UID:7539-1717747200-1717934400@htrhn.org.nz
SUMMARY:HTRHN attending Rotorua GP CME 2024
DESCRIPTION:We’ll be attending this years Rotorua GP CME 2024 conference!\nSwing by stand #122 where the NZLocums & NZMedJobs team will be stationed. Whether you want to discuss a topic\, catch up\, or simply say hi!
URL:https://htrhn.org.nz/event/htrhn-at-gp-cme-2024/
LOCATION:Rotorua Energy Events Centre\, Queens Drive\, Rotorua\, 3010\, New Zealand
CATEGORIES:Conference,Recruitment
END:VEVENT
BEGIN:VEVENT
DTSTART;TZID=UTC:20240612T080000
DTEND;TZID=UTC:20240615T170000
DTSTAMP:20260422T170230
CREATED:20240429T040507Z
LAST-MODIFIED:20240429T045944Z
UID:7491-1718179200-1718470800@htrhn.org.nz
SUMMARY:Mystery Creek Fieldays
DESCRIPTION:The Hauora Taiwhenua Health and Wellbeing Hub at Fieldays brings together a wide range of health organisations in one place\, in collaboration with Mobile Health\, to educate visitors about their physical and mental health. The Hub is an interesting\, informative\, and interactive space\, where visitors can go and get various health checkups\, and take a step towards better health. \n\n\n\nThe most important asset on-farm is you!\nIf you haven’t already done it\, you can get your annual health and wellbeing WOF done at Fieldays. There’s no shame in caring about your health\, get down to the Fieldays Hauora Taiwhenua Health & Wellbeing Hub in June to get yourself checked out. \nFree check-ups\, talk to health experts and get information.\nAt Fieldays we recognise the importance of health and wellbeing. Whether we’re struggling with our physical or mental health\, the Fieldays Hauora Taiwhenua Health & Wellbeing Hub has been set up to help us look after ourselves and our family. Get free check-ups\, talk to health experts\, book health appointments and get information\, all in one place. Full details of the exhibitors can be found on the Fieldays App. \nTalk with the medical team\nTalking to a health expert can be difficult but often once you have that initial conversation things can feel less overwhelming. Take the time to have that chat. \nDiscover support networks\nHaving support networks around you and your Whānau during a period of ill-health is often as vital as the medication you are prescribed. Don’t miss the opportunity to make those connections and extend those networks.
URL:https://htrhn.org.nz/event/mystery-creek-fieldays/
LOCATION:125 Mystery Creek Road\, Hamilton 3240
END:VEVENT
BEGIN:VEVENT
DTSTART;TZID=UTC:20240624T080000
DTEND;TZID=UTC:20240627T170000
DTSTAMP:20260422T170230
CREATED:20240429T025013Z
LAST-MODIFIED:20240429T025013Z
UID:7464-1719216000-1719507600@htrhn.org.nz
SUMMARY:Auckland/Waikato Coromandel: Rural School Visits
DESCRIPTION:Our Rural Health Careers Promotion programme is touring in the Auckland/Waikato Coromandel Region! \nIf you are a school or clinic practice in this region or these towns\, please feel free to contact samantha.hill@htrhn.org.nz if you wish to get involved with the programme. \n\nThe Rural School Visits is an interactive workshop where volunteer tertiary health students majoring in a range of health professions (i.e. dental\, nursing\, physiotherapy\, etc) who have come from rural backgrounds or are interested in working rurally after graduation\, will give a 1-2 hour  workshop with fun activities teaching year 9 – 13 students about human anatomy\, and what it’s like studying medicine and health – all through practical techniques that they’d use in real rural health careers (i.e. checking blood pressure\, making dental molds\, etc).
URL:https://htrhn.org.nz/event/auckland-waikato-coromandel-rural-school-visits/
LOCATION:Coromandel\, Waikato Region\, Coromandel\, Waikato\, New Zealand
CATEGORIES:Rural School Visit
END:VEVENT
BEGIN:VEVENT
DTSTART;TZID=UTC:20240624T080000
DTEND;TZID=UTC:20240627T170000
DTSTAMP:20260422T170230
CREATED:20240429T025134Z
LAST-MODIFIED:20240429T025134Z
UID:7466-1719216000-1719507600@htrhn.org.nz
SUMMARY:Tasman/Nelson: Rural School Visits
DESCRIPTION:Our Rural Health Careers Promotion programme is touring in the Tasman/Nelson Region! \nIf you are a school or clinic practice in this region or these towns\, please feel free to contact samantha.hill@htrhn.org.nz if you wish to get involved with the programme. \n\nThe Rural School Visits is an interactive workshop where volunteer tertiary health students majoring in a range of health professions (i.e. dental\, nursing\, physiotherapy\, etc) who have come from rural backgrounds or are interested in working rurally after graduation\, will give a 1-2 hour  workshop with fun activities teaching year 9 – 13 students about human anatomy\, and what it’s like studying medicine and health – all through practical techniques that they’d use in real rural health careers (i.e. checking blood pressure\, making dental molds\, etc).
URL:https://htrhn.org.nz/event/tasman-nelson-rural-school-visits/
LOCATION:Tasman/Marlborough Region\, Tasman\, New Zealand
CATEGORIES:Rural School Visit
END:VEVENT
BEGIN:VEVENT
DTSTART;TZID=UTC:20240624T080000
DTEND;TZID=UTC:20240627T170000
DTSTAMP:20260422T170230
CREATED:20240429T025243Z
LAST-MODIFIED:20240429T025243Z
UID:7468-1719216000-1719507600@htrhn.org.nz
SUMMARY:West Coast: Rural School Visits
DESCRIPTION:Our Rural Health Careers Promotion programme is touring in the West Coast Region! \nIf you are a school or clinic practice in this region or these towns\, please feel free to contact samantha.hill@htrhn.org.nz if you wish to get involved with the programme. \n\nThe Rural School Visits is an interactive workshop where volunteer tertiary health students majoring in a range of health professions (i.e. dental\, nursing\, physiotherapy\, etc) who have come from rural backgrounds or are interested in working rurally after graduation\, will give a 1-2 hour  workshop with fun activities teaching year 9 – 13 students about human anatomy\, and what it’s like studying medicine and health – all through practical techniques that they’d use in real rural health careers (i.e. checking blood pressure\, making dental molds\, etc).
URL:https://htrhn.org.nz/event/west-coast-rural-school-visits-2/
LOCATION:West Coast Region\, West Coast\, New Zealand
CATEGORIES:Rural School Visit
END:VEVENT
END:VCALENDAR