BEGIN:VCALENDAR
VERSION:2.0
PRODID:-//Hauora Taiwhenua - ECPv6.15.20//NONSGML v1.0//EN
CALSCALE:GREGORIAN
METHOD:PUBLISH
X-WR-CALNAME:Hauora Taiwhenua
X-ORIGINAL-URL:https://htrhn.org.nz
X-WR-CALDESC:Events for Hauora Taiwhenua
REFRESH-INTERVAL;VALUE=DURATION:PT1H
X-Robots-Tag:noindex
X-PUBLISHED-TTL:PT1H
BEGIN:VTIMEZONE
TZID:UTC
BEGIN:STANDARD
TZOFFSETFROM:+0000
TZOFFSETTO:+0000
TZNAME:UTC
DTSTART:20240101T000000
END:STANDARD
END:VTIMEZONE
BEGIN:VEVENT
DTSTART;TZID=UTC:20251024T123000
DTEND;TZID=UTC:20251024T133000
DTSTAMP:20260421T182634
CREATED:20251012T204347Z
LAST-MODIFIED:20251012T204522Z
UID:11385-1761309000-1761312600@htrhn.org.nz
SUMMARY:Minister Doocey Rural Roadshow - Whakatāne
DESCRIPTION:The Rural Health Roadshow will be in Whakatāne on Friday 24th October.\n\nHon Matt Doocey\, Associate Health Minister with responsibility for Rural Health and Minister for Mental Health\, is visiting rural communities to hear about local health care and how the Government can better support communities and people working in rural health.\n\n\n\nTime: Friday\, 24th October\, 12.00pm – 1.30pm\nLocation: Whakatāne War Memorial Hall\, Short Street\, Whakatāne\n\n\n\nTo register and for further details please see here: https://zurl.co/WiJkK\n\n\n\nCome along\, join the kōrero\, and be part of shaping the future of rural health!
URL:https://htrhn.org.nz/event/minister-doocey-rural-roadshow-whakatane/
END:VEVENT
END:VCALENDAR