BEGIN:VCALENDAR
VERSION:2.0
PRODID:-//Hauora Taiwhenua - ECPv6.15.20//NONSGML v1.0//EN
CALSCALE:GREGORIAN
METHOD:PUBLISH
X-WR-CALNAME:Hauora Taiwhenua
X-ORIGINAL-URL:https://htrhn.org.nz
X-WR-CALDESC:Events for Hauora Taiwhenua
REFRESH-INTERVAL;VALUE=DURATION:PT1H
X-Robots-Tag:noindex
X-PUBLISHED-TTL:PT1H
BEGIN:VTIMEZONE
TZID:UTC
BEGIN:STANDARD
TZOFFSETFROM:+0000
TZOFFSETTO:+0000
TZNAME:UTC
DTSTART:20240101T000000
END:STANDARD
END:VTIMEZONE
BEGIN:VEVENT
DTSTART;TZID=UTC:20251017T180000
DTEND;TZID=UTC:20251017T190000
DTSTAMP:20260421T182532
CREATED:20251012T205826Z
LAST-MODIFIED:20251012T205826Z
UID:11397-1760724000-1760727600@htrhn.org.nz
SUMMARY:Rural Health Careers Promotion Programme Psychology Webinar
DESCRIPTION:This webinar is a chance to hear from university students about studying psychology and what it’s really like to train for a career helping people understand thoughts\, feelings\, and behaviours. They’ll share their experiences and answer your questions! \n\n\n\n\nJoin the webinar here: https://zurl.co/F24A4
URL:https://htrhn.org.nz/event/rural-health-careers-promotion-programme-psychology-webinar/
LOCATION:Online: Zoom\, New Zealand
CATEGORIES:Rural Health Careers Conferences
END:VEVENT
END:VCALENDAR