BEGIN:VCALENDAR
VERSION:2.0
PRODID:-//Hauora Taiwhenua - ECPv6.15.20//NONSGML v1.0//EN
CALSCALE:GREGORIAN
METHOD:PUBLISH
X-WR-CALNAME:Hauora Taiwhenua
X-ORIGINAL-URL:https://htrhn.org.nz
X-WR-CALDESC:Events for Hauora Taiwhenua
REFRESH-INTERVAL;VALUE=DURATION:PT1H
X-Robots-Tag:noindex
X-PUBLISHED-TTL:PT1H
BEGIN:VTIMEZONE
TZID:UTC
BEGIN:STANDARD
TZOFFSETFROM:+0000
TZOFFSETTO:+0000
TZNAME:UTC
DTSTART:20240101T000000
END:STANDARD
END:VTIMEZONE
BEGIN:VEVENT
DTSTART;TZID=UTC:20251015T170000
DTEND;TZID=UTC:20251015T180000
DTSTAMP:20260421T182725
CREATED:20251012T205148Z
LAST-MODIFIED:20251012T205639Z
UID:11391-1760547600-1760551200@htrhn.org.nz
SUMMARY:Rural Health Careers Promotion Programme Pharmacy Webinar
DESCRIPTION:This webinar is a chance to hear from university students about studying pharmacy and what it’s really like to train to become a pharmacist. They’ll share their experiences and answer your questions! \nJoin the webinar here: https://zurl.co/i7HUx
URL:https://htrhn.org.nz/event/rural-health-careers-promotion-programme-pharmacy-webinar/
LOCATION:Online: Zoom\, New Zealand
CATEGORIES:Rural Health Careers Conferences
END:VEVENT
BEGIN:VEVENT
DTSTART;TZID=UTC:20251015T181500
DTEND;TZID=UTC:20251015T193000
DTSTAMP:20260421T182725
CREATED:20251012T205350Z
LAST-MODIFIED:20251012T205548Z
UID:11393-1760552100-1760556600@htrhn.org.nz
SUMMARY:Webinar: Helping General Practices Thrive
DESCRIPTION:In this webinar\, Aruni Dias will share her journey and expertise in transforming General Practices into thriving\, sustainable businesses. \nThis session will include: \n\nUtilisation: Staff working at the top of their scope to increase capacity\nNurses minor surgical procedures\nImproving the Practice’s cashflow\nAddressing HR issues – Recruitment: Attract\, Recruit & Retain\nReception: Where the healing begins!\n\nQuestions will be accepted prior to the session\, please send these to: ingrid.busby@htrhn.org.nz. \nClick here to register: https://zurl.co/dZad0
URL:https://htrhn.org.nz/event/webinar-helping-general-practices-thrive/
CATEGORIES:Members Event
END:VEVENT
END:VCALENDAR