BEGIN:VCALENDAR
VERSION:2.0
PRODID:-//Hauora Taiwhenua - ECPv6.15.20//NONSGML v1.0//EN
CALSCALE:GREGORIAN
METHOD:PUBLISH
X-ORIGINAL-URL:https://htrhn.org.nz
X-WR-CALDESC:Events for Hauora Taiwhenua
REFRESH-INTERVAL;VALUE=DURATION:PT1H
X-Robots-Tag:noindex
X-PUBLISHED-TTL:PT1H
BEGIN:VTIMEZONE
TZID:UTC
BEGIN:STANDARD
TZOFFSETFROM:+0000
TZOFFSETTO:+0000
TZNAME:UTC
DTSTART:20240101T000000
END:STANDARD
END:VTIMEZONE
BEGIN:VEVENT
DTSTART;TZID=UTC:20251014T170000
DTEND;TZID=UTC:20251014T180000
DTSTAMP:20260421T182807
CREATED:20251012T205030Z
LAST-MODIFIED:20251012T205030Z
UID:11389-1760461200-1760464800@htrhn.org.nz
SUMMARY:Rural Health Careers Promotion Programme Optometry Webinar
DESCRIPTION:This webinar is a chance to hear from university students about studying optometry and what it’s really like to train to become an optometrist. They’ll share their experiences and answer your questions! \n\n\n\n\n\n\nJoin the webinar here: https://zurl.co/93X1m
URL:https://htrhn.org.nz/event/rural-health-careers-promotion-programme-optometry-webinar/
LOCATION:Online: Zoom\, New Zealand
CATEGORIES:Rural Health Careers Conferences
END:VEVENT
END:VCALENDAR