BEGIN:VCALENDAR
VERSION:2.0
PRODID:-//Hauora Taiwhenua - ECPv6.15.20//NONSGML v1.0//EN
CALSCALE:GREGORIAN
METHOD:PUBLISH
X-WR-CALNAME:Hauora Taiwhenua
X-ORIGINAL-URL:https://htrhn.org.nz
X-WR-CALDESC:Events for Hauora Taiwhenua
REFRESH-INTERVAL;VALUE=DURATION:PT1H
X-Robots-Tag:noindex
X-PUBLISHED-TTL:PT1H
BEGIN:VTIMEZONE
TZID:UTC
BEGIN:STANDARD
TZOFFSETFROM:+0000
TZOFFSETTO:+0000
TZNAME:UTC
DTSTART:20240101T000000
END:STANDARD
END:VTIMEZONE
BEGIN:VEVENT
DTSTART;TZID=UTC:20250714T080000
DTEND;TZID=UTC:20250718T170000
DTSTAMP:20260421T225634
CREATED:20250515T014114Z
LAST-MODIFIED:20250515T014253Z
UID:10354-1752480000-1752858000@htrhn.org.nz
SUMMARY:Waikato: Rural School Visit Tour
DESCRIPTION:Our Rural Health Careers Promotion programme is touring in the Waikato Region! \nIf you are a school or clinic practice in this region or these towns\, please feel free to contact emily.murrayragg@htrhn.org.nz if you wish to get involved with the programme. \n\nThe Rural School Visits is an interactive workshop where volunteer tertiary health students majoring in a range of health professions (i.e. dental\, nursing\, physiotherapy\, etc) who have come from rural backgrounds or are interested in working rurally after graduation\, will give a 1-2 hour  workshop with fun activities teaching year 9 – 13 students about human anatomy\, and what it’s like studying medicine and health – all through practical techniques that they’d use in real rural health careers (i.e. checking blood pressure\, making dental molds\, etc).
URL:https://htrhn.org.nz/event/waikato-rural-school-visit-tour/
LOCATION:Waikato Region\, Waikato\, New Zealand
CATEGORIES:Rural School Visit
END:VEVENT
BEGIN:VEVENT
DTSTART;TZID=UTC:20250714T080000
DTEND;TZID=UTC:20250718T170000
DTSTAMP:20260421T225634
CREATED:20250515T014228Z
LAST-MODIFIED:20250515T014228Z
UID:10357-1752480000-1752858000@htrhn.org.nz
SUMMARY:Taranaki/Manawatū: Rural School Visit Tour
DESCRIPTION:Our Rural Health Careers Promotion programme is touring in the Taranaki/Manawatū Region! \nIf you are a school or clinic practice in this region or these towns\, please feel free to contact emily.murrayragg@htrhn.org.nz if you wish to get involved with the programme. \n\nThe Rural School Visits is an interactive workshop where volunteer tertiary health students majoring in a range of health professions (i.e. dental\, nursing\, physiotherapy\, etc) who have come from rural backgrounds or are interested in working rurally after graduation\, will give a 1-2 hour  workshop with fun activities teaching year 9 – 13 students about human anatomy\, and what it’s like studying medicine and health – all through practical techniques that they’d use in real rural health careers (i.e. checking blood pressure\, making dental molds\, etc).
URL:https://htrhn.org.nz/event/taranaki-manawatu-rural-school-visit-tour/
CATEGORIES:Rural School Visit
END:VEVENT
BEGIN:VEVENT
DTSTART;VALUE=DATE:20250716
DTEND;VALUE=DATE:20250717
DTSTAMP:20260421T225634
CREATED:20250526T032638Z
LAST-MODIFIED:20250529T031304Z
UID:10419-1752624000-1752710399@htrhn.org.nz
SUMMARY:RuralFest 2025
DESCRIPTION:This is the chance for rural health and rural community leaders to engage in discussions with key Ministers from the Coalition Government and Spokespeople from the Opposition Benches on the current state of rural health and what can be done to improve it. \nMore details to come—stay tuned! For now\, please save the date and mark your calendars. \nWe look forward to your participation in shaping the future of rural communities.
URL:https://htrhn.org.nz/event/ruralfest-2025/
END:VEVENT
END:VCALENDAR