BEGIN:VCALENDAR
VERSION:2.0
PRODID:-//Hauora Taiwhenua - ECPv6.15.20//NONSGML v1.0//EN
CALSCALE:GREGORIAN
METHOD:PUBLISH
X-ORIGINAL-URL:https://htrhn.org.nz
X-WR-CALDESC:Events for Hauora Taiwhenua
REFRESH-INTERVAL;VALUE=DURATION:PT1H
X-Robots-Tag:noindex
X-PUBLISHED-TTL:PT1H
BEGIN:VTIMEZONE
TZID:UTC
BEGIN:STANDARD
TZOFFSETFROM:+0000
TZOFFSETTO:+0000
TZNAME:UTC
DTSTART:20240101T000000
END:STANDARD
END:VTIMEZONE
BEGIN:VEVENT
DTSTART;TZID=UTC:20250512T073000
DTEND;TZID=UTC:20250514T153000
DTSTAMP:20260422T014250
CREATED:20250211T022409Z
LAST-MODIFIED:20250211T022424Z
UID:9596-1747035000-1747236600@htrhn.org.nz
SUMMARY:NZLocums Orientation - May 2025
DESCRIPTION:Kickstart your journey in the New Zealand health system with our orientation course. Experience the best introduction to New Zealand’s health system by attending our acclaimed three-day orientation course. \nThis course is endorsed by The Royal New Zealand College of General Practitioners (RNZCGP) and is approved for up to 10 CME credits for Continuing Professional Development (CPD) purposes. \nTo register for our May orientation\, follow the link below. \nRegister for Orientation – Hauora Taiwhenua
URL:https://htrhn.org.nz/event/nzlocums-orientation-may-2025/
LOCATION:Online: Teams\, New Zealand
CATEGORIES:Orientation,Recruitment
ORGANIZER;CN="Connor Owen":MAILTO:connor.owen@nzlocums.com
END:VEVENT
END:VCALENDAR