BEGIN:VCALENDAR
VERSION:2.0
PRODID:-//Hauora Taiwhenua - ECPv6.15.20//NONSGML v1.0//EN
CALSCALE:GREGORIAN
METHOD:PUBLISH
X-WR-CALNAME:Hauora Taiwhenua
X-ORIGINAL-URL:https://htrhn.org.nz
X-WR-CALDESC:Events for Hauora Taiwhenua
REFRESH-INTERVAL;VALUE=DURATION:PT1H
X-Robots-Tag:noindex
X-PUBLISHED-TTL:PT1H
BEGIN:VTIMEZONE
TZID:UTC
BEGIN:STANDARD
TZOFFSETFROM:+0000
TZOFFSETTO:+0000
TZNAME:UTC
DTSTART:20240101T000000
END:STANDARD
END:VTIMEZONE
BEGIN:VEVENT
DTSTART;TZID=UTC:20250424T080000
DTEND;TZID=UTC:20250426T170000
DTSTAMP:20260422T032343
CREATED:20240114T184154Z
LAST-MODIFIED:20240114T184154Z
UID:6754-1745481600-1745686800@htrhn.org.nz
SUMMARY:Save the date for SRPCs R&R 2025
DESCRIPTION:
URL:https://htrhn.org.nz/event/save-the-date-for-srpcs-rr-2025/
LOCATION:RBC Convention Centre Winnipeg\, 375 York Avenue\, Winnipeg\, Manitoba\, Canada
END:VEVENT
END:VCALENDAR