BEGIN:VCALENDAR
VERSION:2.0
PRODID:-//Hauora Taiwhenua - ECPv6.15.20//NONSGML v1.0//EN
CALSCALE:GREGORIAN
METHOD:PUBLISH
X-WR-CALNAME:Hauora Taiwhenua
X-ORIGINAL-URL:https://htrhn.org.nz
X-WR-CALDESC:Events for Hauora Taiwhenua
REFRESH-INTERVAL;VALUE=DURATION:PT1H
X-Robots-Tag:noindex
X-PUBLISHED-TTL:PT1H
BEGIN:VTIMEZONE
TZID:UTC
BEGIN:STANDARD
TZOFFSETFROM:+0000
TZOFFSETTO:+0000
TZNAME:UTC
DTSTART:20230101T000000
END:STANDARD
END:VTIMEZONE
BEGIN:VEVENT
DTSTART;TZID=UTC:20241118T080000
DTEND;TZID=UTC:20241122T170000
DTSTAMP:20260422T103443
CREATED:20240429T030310Z
LAST-MODIFIED:20240429T030310Z
UID:7481-1731916800-1732294800@htrhn.org.nz
SUMMARY:Lower Northland/Auckland: Rural School Visits
DESCRIPTION:Our Rural Health Careers Promotion programme is touring in the Lower Northland/Auckland Region! \nIf you are a school or clinic practice in this region or these towns\, please feel free to contact samantha.hill@htrhn.org.nz if you wish to get involved with the programme. \n\nThe Rural School Visits is an interactive workshop where volunteer tertiary health students majoring in a range of health professions (i.e. dental\, nursing\, physiotherapy\, etc) who have come from rural backgrounds or are interested in working rurally after graduation\, will give a 1-2 hour  workshop with fun activities teaching year 9 – 13 students about human anatomy\, and what it’s like studying medicine and health – all through practical techniques that they’d use in real rural health careers (i.e. checking blood pressure\, making dental molds\, etc).
URL:https://htrhn.org.nz/event/lower-northland-auckland-rural-school-visits/
LOCATION:Whangārei Northland Region\, Whangārei\, New Zealand
CATEGORIES:Rural School Visit
END:VEVENT
BEGIN:VEVENT
DTSTART;TZID=UTC:20241118T080000
DTEND;TZID=UTC:20241122T170000
DTSTAMP:20260422T103443
CREATED:20240429T030423Z
LAST-MODIFIED:20240429T030732Z
UID:7483-1731916800-1732294800@htrhn.org.nz
SUMMARY:Manawatu/Whanganui: Rural School Visits
DESCRIPTION:Our Rural Health Careers Promotion programme is touring in the Manawatu/Whanganui Region! \nIf you are a school or clinic practice in this region or these towns\, please feel free to contact samantha.hill@htrhn.org.nz if you wish to get involved with the programme. \n\nThe Rural School Visits is an interactive workshop where volunteer tertiary health students majoring in a range of health professions (i.e. dental\, nursing\, physiotherapy\, etc) who have come from rural backgrounds or are interested in working rurally after graduation\, will give a 1-2 hour  workshop with fun activities teaching year 9 – 13 students about human anatomy\, and what it’s like studying medicine and health – all through practical techniques that they’d use in real rural health careers (i.e. checking blood pressure\, making dental molds\, etc).
URL:https://htrhn.org.nz/event/manawatu-whanganui-rural-school-visits/
CATEGORIES:Rural School Visit
END:VEVENT
BEGIN:VEVENT
DTSTART;TZID=UTC:20241118T080000
DTEND;TZID=UTC:20241122T170000
DTSTAMP:20260422T103443
CREATED:20240429T030528Z
LAST-MODIFIED:20240429T030528Z
UID:7485-1731916800-1732294800@htrhn.org.nz
SUMMARY:Southland/Otago: Rural School Visits
DESCRIPTION:Our Rural Health Careers Promotion programme is touring in the Southland/Otago Region! \nIf you are a school or clinic practice in this region or these towns\, please feel free to contact samantha.hill@htrhn.org.nz if you wish to get involved with the programme. \n\nThe Rural School Visits is an interactive workshop where volunteer tertiary health students majoring in a range of health professions (i.e. dental\, nursing\, physiotherapy\, etc) who have come from rural backgrounds or are interested in working rurally after graduation\, will give a 1-2 hour  workshop with fun activities teaching year 9 – 13 students about human anatomy\, and what it’s like studying medicine and health – all through practical techniques that they’d use in real rural health careers (i.e. checking blood pressure\, making dental molds\, etc).
URL:https://htrhn.org.nz/event/southland-otago-rural-school-visits-2/
CATEGORIES:Rural School Visit
END:VEVENT
END:VCALENDAR