BEGIN:VCALENDAR
VERSION:2.0
PRODID:-//Hauora Taiwhenua - ECPv6.15.20//NONSGML v1.0//EN
CALSCALE:GREGORIAN
METHOD:PUBLISH
X-ORIGINAL-URL:https://htrhn.org.nz
X-WR-CALDESC:Events for Hauora Taiwhenua
REFRESH-INTERVAL;VALUE=DURATION:PT1H
X-Robots-Tag:noindex
X-PUBLISHED-TTL:PT1H
BEGIN:VTIMEZONE
TZID:UTC
BEGIN:STANDARD
TZOFFSETFROM:+0000
TZOFFSETTO:+0000
TZNAME:UTC
DTSTART:20230101T000000
END:STANDARD
END:VTIMEZONE
BEGIN:VEVENT
DTSTART;TZID=UTC:20240826T080000
DTEND;TZID=UTC:20240830T170000
DTSTAMP:20260422T133958
CREATED:20240429T025648Z
LAST-MODIFIED:20240429T025648Z
UID:7474-1724659200-1725037200@htrhn.org.nz
SUMMARY:Bay of Plenty/Gisborne: Rural School Visits
DESCRIPTION:Our Rural Health Careers Promotion programme is touring in the Bay of Plenty/Gisborne Region! \nIf you are a school or clinic practice in this region or these towns\, please feel free to contact samantha.hill@htrhn.org.nz if you wish to get involved with the programme. \n\nThe Rural School Visits is an interactive workshop where volunteer tertiary health students majoring in a range of health professions (i.e. dental\, nursing\, physiotherapy\, etc) who have come from rural backgrounds or are interested in working rurally after graduation\, will give a 1-2 hour  workshop with fun activities teaching year 9 – 13 students about human anatomy\, and what it’s like studying medicine and health – all through practical techniques that they’d use in real rural health careers (i.e. checking blood pressure\, making dental molds\, etc).
URL:https://htrhn.org.nz/event/bay-of-plenty-gisborne-rural-school-visits-2/
LOCATION:Bay of Plenty/Gisborne Region\, Bay of Plenty\, New Zealand
CATEGORIES:Rural School Visit
END:VEVENT
BEGIN:VEVENT
DTSTART;TZID=UTC:20240826T080000
DTEND;TZID=UTC:20240830T170000
DTSTAMP:20260422T133958
CREATED:20240429T025904Z
LAST-MODIFIED:20240429T025904Z
UID:7476-1724659200-1725037200@htrhn.org.nz
SUMMARY:Taranaki: Rural School Visits
DESCRIPTION:Our Rural Health Careers Promotion programme is touring in the Taranaki Region! \nIf you are a school or clinic practice in this region or these towns\, please feel free to contact samantha.hill@htrhn.org.nz if you wish to get involved with the programme. \n\nThe Rural School Visits is an interactive workshop where volunteer tertiary health students majoring in a range of health professions (i.e. dental\, nursing\, physiotherapy\, etc) who have come from rural backgrounds or are interested in working rurally after graduation\, will give a 1-2 hour  workshop with fun activities teaching year 9 – 13 students about human anatomy\, and what it’s like studying medicine and health – all through practical techniques that they’d use in real rural health careers (i.e. checking blood pressure\, making dental molds\, etc).
URL:https://htrhn.org.nz/event/taranaki-rural-school-visits-2/
LOCATION:Taranaki Region\, Taranaki\, New Zealand
CATEGORIES:Rural School Visit
END:VEVENT
END:VCALENDAR